BEGIN:VCALENDAR
VERSION:2.0
PRODID:-//Musical Projekt Oberberg - ECPv6.15.20//NONSGML v1.0//EN
CALSCALE:GREGORIAN
METHOD:PUBLISH
X-WR-CALNAME:Musical Projekt Oberberg
X-ORIGINAL-URL:https://neu.musical-projekt-oberberg.de
X-WR-CALDESC:Veranstaltungen für Musical Projekt Oberberg
REFRESH-INTERVAL;VALUE=DURATION:PT1H
X-Robots-Tag:noindex
X-PUBLISHED-TTL:PT1H
BEGIN:VTIMEZONE
TZID:Europe/Berlin
BEGIN:DAYLIGHT
TZOFFSETFROM:+0100
TZOFFSETTO:+0200
TZNAME:CEST
DTSTART:20250330T010000
END:DAYLIGHT
BEGIN:STANDARD
TZOFFSETFROM:+0200
TZOFFSETTO:+0100
TZNAME:CET
DTSTART:20251026T010000
END:STANDARD
BEGIN:DAYLIGHT
TZOFFSETFROM:+0100
TZOFFSETTO:+0200
TZNAME:CEST
DTSTART:20260329T010000
END:DAYLIGHT
BEGIN:STANDARD
TZOFFSETFROM:+0200
TZOFFSETTO:+0100
TZNAME:CET
DTSTART:20261025T010000
END:STANDARD
BEGIN:DAYLIGHT
TZOFFSETFROM:+0100
TZOFFSETTO:+0200
TZNAME:CEST
DTSTART:20270328T010000
END:DAYLIGHT
BEGIN:STANDARD
TZOFFSETFROM:+0200
TZOFFSETTO:+0100
TZNAME:CET
DTSTART:20271031T010000
END:STANDARD
END:VTIMEZONE
BEGIN:VEVENT
DTSTART;TZID=Europe/Berlin:20260905T190000
DTEND;TZID=Europe/Berlin:20260905T220000
DTSTAMP:20260421T141256
CREATED:20260420T165926Z
LAST-MODIFIED:20260420T170607Z
UID:2489-1788634800-1788645600@neu.musical-projekt-oberberg.de
SUMMARY:Socken im Kühlschrank
DESCRIPTION:Das Musical bietet eine einzigartige Perspektive auf das Thema Demenz. Es zeigt\, wie Liese mit den Herausforderungen der Krankheit umgeht\, während Amy Llyod-Beta als Verkörperung der Demenz selbst auf der Bühne steht. Durch mitreißende Musik und einfühlsame Darstellungen wird diese Aufführung Herzen berühren und zum Nachdenken anregen.Joachim Kottmanns einfühlsame Komposition und Text zeigen die emotionale Reise der Protagonisten. Gepaart mit der Regie von Kathleen Wojahn und Sven Popovici\, sowie den mitreißenden Choreografien von Hannah Ludemann-Kruse\, verspricht das Musical einen Abend voller Emotionen\, Musik und überraschender Das Musical bietet eine einzigartige Perspektive auf das Thema Demenz. Es zeigt\, wie Liese mit den Herausforderungen der Krankheit umgeht\, während Amy Llyod-Beta als Verkörperung der Demenz selbst auf der Bühne steht. Durch mitreißende Musik und einfühlsame Darstellungen wird diese Aufführung Herzen berühren und zum Nachdenken anregen.Joachim Kottmanns einfühlsame Komposition und Text zeigen die emotionale Reise der Protagonisten. Gepaart mit der Regie von Kathleen Wojahn und Sven Popovici\, sowie den mitreißenden Choreografien von Hannah Ludemann-Kruse\, verspricht das Musical einen Abend voller Emotionen\, Musik und überraschender Momente. \n\n\n\nKarten erhalten Sieim Hospizbüro\, Steinweg 27\, 50321 Brühl\, Tel.: 02232 949830\, E-Mail: info@hospiz-bruehl.de undbei Alzheimer-Gesellschaft AUFWIND Brühl e.V.\, Clemens-August-Straße 33a\, Tel. 02232 150 21 91.
URL:https://neu.musical-projekt-oberberg.de/event/socken-im-kuehlschrank-6
LOCATION:Clemens-August-Forum\, Clemens-August-Straße 33a\, Brühl\, 50321\, Germany
ATTACH;FMTTYPE=image/jpeg:https://neu.musical-projekt-oberberg.de/wp-content/uploads/2022/11/Design-ohne-Titel-scaled.jpg
END:VEVENT
END:VCALENDAR